BEGIN:VCALENDAR
VERSION:2.0
PRODID:-//SeattleCH - ECPv6.15.18//NONSGML v1.0//EN
CALSCALE:GREGORIAN
METHOD:PUBLISH
X-WR-CALNAME:SeattleCH
X-ORIGINAL-URL:https://seattlech.com
X-WR-CALDESC:SeattleCH的活动
REFRESH-INTERVAL;VALUE=DURATION:PT1H
X-Robots-Tag:noindex
X-PUBLISHED-TTL:PT1H
BEGIN:VTIMEZONE
TZID:America/Los_Angeles
BEGIN:DAYLIGHT
TZOFFSETFROM:-0800
TZOFFSETTO:-0700
TZNAME:PDT
DTSTART:20250309T100000
END:DAYLIGHT
BEGIN:STANDARD
TZOFFSETFROM:-0700
TZOFFSETTO:-0800
TZNAME:PST
DTSTART:20251102T090000
END:STANDARD
BEGIN:DAYLIGHT
TZOFFSETFROM:-0800
TZOFFSETTO:-0700
TZNAME:PDT
DTSTART:20260308T100000
END:DAYLIGHT
BEGIN:STANDARD
TZOFFSETFROM:-0700
TZOFFSETTO:-0800
TZNAME:PST
DTSTART:20261101T090000
END:STANDARD
BEGIN:DAYLIGHT
TZOFFSETFROM:-0800
TZOFFSETTO:-0700
TZNAME:PDT
DTSTART:20270314T100000
END:DAYLIGHT
BEGIN:STANDARD
TZOFFSETFROM:-0700
TZOFFSETTO:-0800
TZNAME:PST
DTSTART:20271107T090000
END:STANDARD
END:VTIMEZONE
BEGIN:VEVENT
DTSTART;VALUE=DATE:20260503
DTEND;VALUE=DATE:20260504
DTSTAMP:20260420T061438
CREATED:20260220T164429Z
LAST-MODIFIED:20260220T164429Z
UID:181815-1777766400-1777852799@seattlech.com
SUMMARY:5月5日赌场狂欢盛典 Cinco de Mayo in a casino
DESCRIPTION:购票即可尽情体验热情四溢的墨西哥风情，包含4只鸡肉卷饼、特调饮品及现场墨西哥摔跤表演。活动地点：斯诺夸尔米赌场（地址：37500 SE North Bend Way）。仅限年满21岁人士参与 \n📷 Photos \n📍 Google Map \n🔗 查看主页
URL:https://seattlech.com/event/5%e6%9c%885%e6%97%a5%e8%b5%8c%e5%9c%ba%e7%8b%82%e6%ac%a2%e7%9b%9b%e5%85%b8-cinco-de-mayo-in-a-casino/
LOCATION:Snoqualmie Casino\, 37500 SE North Bend Way\, Snoqualmie\, WA 98065\, United States
END:VEVENT
END:VCALENDAR