BEGIN:VCALENDAR
VERSION:2.0
PRODID:-//SeattleCH - ECPv6.15.18//NONSGML v1.0//EN
CALSCALE:GREGORIAN
METHOD:PUBLISH
X-WR-CALNAME:SeattleCH
X-ORIGINAL-URL:https://seattlech.com
X-WR-CALDESC:SeattleCH的活动
REFRESH-INTERVAL;VALUE=DURATION:PT1H
X-Robots-Tag:noindex
X-PUBLISHED-TTL:PT1H
BEGIN:VTIMEZONE
TZID:America/Los_Angeles
BEGIN:DAYLIGHT
TZOFFSETFROM:-0800
TZOFFSETTO:-0700
TZNAME:PDT
DTSTART:20250309T100000
END:DAYLIGHT
BEGIN:STANDARD
TZOFFSETFROM:-0700
TZOFFSETTO:-0800
TZNAME:PST
DTSTART:20251102T090000
END:STANDARD
BEGIN:DAYLIGHT
TZOFFSETFROM:-0800
TZOFFSETTO:-0700
TZNAME:PDT
DTSTART:20260308T100000
END:DAYLIGHT
BEGIN:STANDARD
TZOFFSETFROM:-0700
TZOFFSETTO:-0800
TZNAME:PST
DTSTART:20261101T090000
END:STANDARD
BEGIN:DAYLIGHT
TZOFFSETFROM:-0800
TZOFFSETTO:-0700
TZNAME:PDT
DTSTART:20270314T100000
END:DAYLIGHT
BEGIN:STANDARD
TZOFFSETFROM:-0700
TZOFFSETTO:-0800
TZNAME:PST
DTSTART:20271107T090000
END:STANDARD
END:VTIMEZONE
BEGIN:VEVENT
DTSTART;VALUE=DATE:20260430
DTEND;VALUE=DATE:20260504
DTSTAMP:20260420T101927
CREATED:20260218T010454Z
LAST-MODIFIED:20260218T010454Z
UID:181050-1777507200-1777852799@seattlech.com
SUMMARY:黑人电影节 Black film festival
DESCRIPTION:美国西雅图黑人电影节在兰斯顿·休斯表演艺术研究所举办（西雅图市17街104号）。活动包含电影放映、实践工作坊、专题圆桌及电影制作人深度对话等多元内容。 \n🎬 Video \n📍 Google Map \n🔗 查看主页
URL:https://seattlech.com/event/%e9%bb%91%e4%ba%ba%e7%94%b5%e5%bd%b1%e8%8a%82-black-film-festival/
LOCATION:Langston Hughes Performing Arts Institute\, 104 17th Ave S\, Seattle\, WA 98144\, United States
END:VEVENT
END:VCALENDAR