BEGIN:VCALENDAR
VERSION:2.0
PRODID:-//SeattleCH - ECPv6.15.18//NONSGML v1.0//EN
CALSCALE:GREGORIAN
METHOD:PUBLISH
X-WR-CALNAME:SeattleCH
X-ORIGINAL-URL:https://seattlech.com
X-WR-CALDESC:SeattleCH的活动
REFRESH-INTERVAL;VALUE=DURATION:PT1H
X-Robots-Tag:noindex
X-PUBLISHED-TTL:PT1H
BEGIN:VTIMEZONE
TZID:America/Los_Angeles
BEGIN:DAYLIGHT
TZOFFSETFROM:-0800
TZOFFSETTO:-0700
TZNAME:PDT
DTSTART:20250309T100000
END:DAYLIGHT
BEGIN:STANDARD
TZOFFSETFROM:-0700
TZOFFSETTO:-0800
TZNAME:PST
DTSTART:20251102T090000
END:STANDARD
BEGIN:DAYLIGHT
TZOFFSETFROM:-0800
TZOFFSETTO:-0700
TZNAME:PDT
DTSTART:20260308T100000
END:DAYLIGHT
BEGIN:STANDARD
TZOFFSETFROM:-0700
TZOFFSETTO:-0800
TZNAME:PST
DTSTART:20261101T090000
END:STANDARD
BEGIN:DAYLIGHT
TZOFFSETFROM:-0800
TZOFFSETTO:-0700
TZNAME:PDT
DTSTART:20270314T100000
END:DAYLIGHT
BEGIN:STANDARD
TZOFFSETFROM:-0700
TZOFFSETTO:-0800
TZNAME:PST
DTSTART:20271107T090000
END:STANDARD
END:VTIMEZONE
BEGIN:VEVENT
DTSTART;VALUE=DATE:20260419
DTEND;VALUE=DATE:20260503
DTSTAMP:20260420T172131
CREATED:20260409T175518Z
LAST-MODIFIED:20260409T175518Z
UID:187094-1776556800-1777766399@seattlech.com
SUMMARY:餐厅周 Restaurant week
DESCRIPTION:在西雅图餐厅周期间，您可享受220家餐厅（从西雅图到伊萨夸，从埃德蒙兹到雷尼尔海滩）的专属优惠。如需了解各餐厅的特色活动，请向下滚动页面并点击餐厅名称。活动通常在春季和秋季举行。 \n🔗 查看主页
URL:https://seattlech.com/event/%e9%a4%90%e5%8e%85%e5%91%a8-restaurant-week-2/
LOCATION:Seattle & Eastside
END:VEVENT
END:VCALENDAR