BEGIN:VCALENDAR
VERSION:2.0
PRODID:-//SeattleCH - ECPv6.15.18//NONSGML v1.0//EN
CALSCALE:GREGORIAN
METHOD:PUBLISH
X-WR-CALNAME:SeattleCH
X-ORIGINAL-URL:https://seattlech.com
X-WR-CALDESC:SeattleCH的活动
REFRESH-INTERVAL;VALUE=DURATION:PT1H
X-Robots-Tag:noindex
X-PUBLISHED-TTL:PT1H
BEGIN:VTIMEZONE
TZID:America/Los_Angeles
BEGIN:DAYLIGHT
TZOFFSETFROM:-0800
TZOFFSETTO:-0700
TZNAME:PDT
DTSTART:20250309T100000
END:DAYLIGHT
BEGIN:STANDARD
TZOFFSETFROM:-0700
TZOFFSETTO:-0800
TZNAME:PST
DTSTART:20251102T090000
END:STANDARD
BEGIN:DAYLIGHT
TZOFFSETFROM:-0800
TZOFFSETTO:-0700
TZNAME:PDT
DTSTART:20260308T100000
END:DAYLIGHT
BEGIN:STANDARD
TZOFFSETFROM:-0700
TZOFFSETTO:-0800
TZNAME:PST
DTSTART:20261101T090000
END:STANDARD
BEGIN:DAYLIGHT
TZOFFSETFROM:-0800
TZOFFSETTO:-0700
TZNAME:PDT
DTSTART:20270314T100000
END:DAYLIGHT
BEGIN:STANDARD
TZOFFSETFROM:-0700
TZOFFSETTO:-0800
TZNAME:PST
DTSTART:20271107T090000
END:STANDARD
END:VTIMEZONE
BEGIN:VEVENT
DTSTART;VALUE=DATE:20260424
DTEND;VALUE=DATE:20260425
DTSTAMP:20260420T160118
CREATED:20260217T081122Z
LAST-MODIFIED:20260217T081122Z
UID:180826-1776988800-1777075199@seattlech.com
SUMMARY:阿巴之夜璀璨舞池派对 Dance party
DESCRIPTION:DJ将演绎阿巴乐队及欧洲流行音乐，随后西雅图致敬乐队Abbagrahics现场演出。瑞典俱乐部（西雅图1920 Dexter Ave. N）提供北欧美食，活动仅限21岁及以上人士参加。 \n📍 Google Map \n🔗 查看主页
URL:https://seattlech.com/event/%e9%98%bf%e5%b7%b4%e4%b9%8b%e5%a4%9c%e7%92%80%e7%92%a8%e8%88%9e%e6%b1%a0%e6%b4%be%e5%af%b9-dance-party/
LOCATION:The Swedish Club\, 1920 Dexter Ave N\, Seattle\, WA 98109\, United States
END:VEVENT
END:VCALENDAR