BEGIN:VCALENDAR
VERSION:2.0
PRODID:-//SeattleCH - ECPv6.15.18//NONSGML v1.0//EN
CALSCALE:GREGORIAN
METHOD:PUBLISH
X-WR-CALNAME:SeattleCH
X-ORIGINAL-URL:https://seattlech.com
X-WR-CALDESC:SeattleCH的活动
REFRESH-INTERVAL;VALUE=DURATION:PT1H
X-Robots-Tag:noindex
X-PUBLISHED-TTL:PT1H
BEGIN:VTIMEZONE
TZID:America/Los_Angeles
BEGIN:DAYLIGHT
TZOFFSETFROM:-0800
TZOFFSETTO:-0700
TZNAME:PDT
DTSTART:20250309T100000
END:DAYLIGHT
BEGIN:STANDARD
TZOFFSETFROM:-0700
TZOFFSETTO:-0800
TZNAME:PST
DTSTART:20251102T090000
END:STANDARD
BEGIN:DAYLIGHT
TZOFFSETFROM:-0800
TZOFFSETTO:-0700
TZNAME:PDT
DTSTART:20260308T100000
END:DAYLIGHT
BEGIN:STANDARD
TZOFFSETFROM:-0700
TZOFFSETTO:-0800
TZNAME:PST
DTSTART:20261101T090000
END:STANDARD
BEGIN:DAYLIGHT
TZOFFSETFROM:-0800
TZOFFSETTO:-0700
TZNAME:PDT
DTSTART:20270314T100000
END:DAYLIGHT
BEGIN:STANDARD
TZOFFSETFROM:-0700
TZOFFSETTO:-0800
TZNAME:PST
DTSTART:20271107T090000
END:STANDARD
END:VTIMEZONE
BEGIN:VEVENT
DTSTART;VALUE=DATE:20260417
DTEND;VALUE=DATE:20260501
DTSTAMP:20260420T203236
CREATED:20260409T005054Z
LAST-MODIFIED:20260409T005054Z
UID:186995-1776384000-1777593599@seattlech.com
SUMMARY:诗歌节 Poetry festival
DESCRIPTION:节奏：视频诗歌节是一系列活动，包含视频诗歌放映、工作坊与讨论，汇集多国作品，在两个场地同步举行。 \n\n\nApril 17 – 19 — Northwest Film Forum\nApril 30 — Frye Art Museum\n\n\n🔗 查看主页
URL:https://seattlech.com/event/%e8%af%97%e6%ad%8c%e8%8a%82-poetry-festival/
LOCATION:Multiple Locations
END:VEVENT
END:VCALENDAR