BEGIN:VCALENDAR
VERSION:2.0
PRODID:-//SeattleCH - ECPv6.15.18//NONSGML v1.0//EN
CALSCALE:GREGORIAN
METHOD:PUBLISH
X-WR-CALNAME:SeattleCH
X-ORIGINAL-URL:https://seattlech.com
X-WR-CALDESC:SeattleCH的活动
REFRESH-INTERVAL;VALUE=DURATION:PT1H
X-Robots-Tag:noindex
X-PUBLISHED-TTL:PT1H
BEGIN:VTIMEZONE
TZID:America/Los_Angeles
BEGIN:DAYLIGHT
TZOFFSETFROM:-0800
TZOFFSETTO:-0700
TZNAME:PDT
DTSTART:20250309T100000
END:DAYLIGHT
BEGIN:STANDARD
TZOFFSETFROM:-0700
TZOFFSETTO:-0800
TZNAME:PST
DTSTART:20251102T090000
END:STANDARD
BEGIN:DAYLIGHT
TZOFFSETFROM:-0800
TZOFFSETTO:-0700
TZNAME:PDT
DTSTART:20260308T100000
END:DAYLIGHT
BEGIN:STANDARD
TZOFFSETFROM:-0700
TZOFFSETTO:-0800
TZNAME:PST
DTSTART:20261101T090000
END:STANDARD
BEGIN:DAYLIGHT
TZOFFSETFROM:-0800
TZOFFSETTO:-0700
TZNAME:PDT
DTSTART:20270314T100000
END:DAYLIGHT
BEGIN:STANDARD
TZOFFSETFROM:-0700
TZOFFSETTO:-0800
TZNAME:PST
DTSTART:20271107T090000
END:STANDARD
END:VTIMEZONE
BEGIN:VEVENT
DTSTART;VALUE=DATE:20260418
DTEND;VALUE=DATE:20261108
DTSTAMP:20260420T185657
CREATED:20260409T110049Z
LAST-MODIFIED:20260409T110049Z
UID:187064-1776470400-1794095999@seattlech.com
SUMMARY:观看西雅图海湾人队主场比赛 Soccer
DESCRIPTION:西雅图海湾人队将在流明球场进行主场比赛，地址为西雅图800 Occidental Ave. S。位于Pioneer Square，距离约1.3英里。 \n\n\n\nDate \n\n\n\nApril 18 \n6:30 PM \n\nSt. Louis City SC \n\nApril 25 \n7:30 PM \n\nFC Dallas \n\nMay 2 \n11:30 AM \n@ \nSporting Kansas City \n\nMay 9 \n7:30 PM \n\nSan Diego FC \n\nMay 13 \n6:30 PM \n\nSan Jose Earthquakes \n\nMay 16 \n6:00 PM \n\nLA Galaxy \n\nMay 24 \n6:00 PM \n@ \nLAFC \n\nJuly 16 \n7:30 PM \n\nPortland Timbers \n\nJuly 22 \n5:30 PM \n@ \nAustin FC \n\nJuly 25 \n4:30 PM \n@ \nPhiladelphia Union \n\nAug. 1 \n7:30 PM \n@ \nPortland Timbers \n\nAug. 16 \n6:00 PM \n\nVancouver Whitecaps \n\nAug. 19 \n6:30 PM \n\nAustin FC \n\nAug. 22 \n4:30 PM \n@ \nFC Cincinnati \n\nAug. 29 \n1:30 PM \n\nChicago Fire \n\nSept. 5 \n5:30 PM \n\nNew York Red Bulls \n\nSept. 9 \n7:30 PM \n\nSporting Kansas City \n\nSept. 12 \n7:30 PM \n@ \nLA Galaxy \n\nSept. 19 \n6:30 PM \n@ \nColorado Rapids \n\nSept. 26 \n5:30 PM \n\nMinnesota United \n\nOct. 10 \n4:30 PM \n@ \nNew England Revolution \n\nOct. 14 \n5:30 PM \n@ \nFC Dallas \n\nOct. 17 \n7:30 PM \n\nCF Montréal \n\nOct. 24 \n7:30 PM \n@ \nSan Diego FC \n\nOct. 28 \n7:30 PM \n\nHouston Dynamo \n\nOct. 31 \nTBA \n@ \nVancouver Whitecaps FC \n\nNov. 7 \n4:00 PM \n\nLAFC \n\n\n\n\n\n\n\n\n\n\n\n\n\n\n\n\n\n\n\n\n\n\n\n\n\n\n\n\n\n\n\n\n\n\n\n\n\n\n\n\n\n\n\n\n\n\n\n\n\n\n\n\n\n\n\n\n\n\n\n\n\n\n\n\n\n\n\n\n\n\n\n\n\n\n\n\n\n\n\n\n\n\n\n\n\n\n\n\n\n\n\n\n\n\n\n\n\n\n\n\n\n\n\n\n\n\n\n\n\n\n\n\n\n\n\n\n\n\n\n\n\n\n\n\n\n\n\n\n\n\n\n\n\n\n\n\n\n\n\n\n\n\n\n\n\n\n\n \n🎫 Tickets \n📍 Google Map \n🔗 查看主页
URL:https://seattlech.com/event/%e8%a7%82%e7%9c%8b%e8%a5%bf%e9%9b%85%e5%9b%be%e6%b5%b7%e6%b9%be%e4%ba%ba%e9%98%9f%e4%b8%bb%e5%9c%ba%e6%af%94%e8%b5%9b-soccer/
LOCATION:Lumen Field\, 800 Occidental Ave S\, Seattle\, WA 98134\, United States
END:VEVENT
END:VCALENDAR