BEGIN:VCALENDAR
VERSION:2.0
PRODID:-//SeattleCH - ECPv6.15.18//NONSGML v1.0//EN
CALSCALE:GREGORIAN
METHOD:PUBLISH
X-WR-CALNAME:SeattleCH
X-ORIGINAL-URL:https://seattlech.com
X-WR-CALDESC:SeattleCH的活动
REFRESH-INTERVAL;VALUE=DURATION:PT1H
X-Robots-Tag:noindex
X-PUBLISHED-TTL:PT1H
BEGIN:VTIMEZONE
TZID:America/Los_Angeles
BEGIN:DAYLIGHT
TZOFFSETFROM:-0800
TZOFFSETTO:-0700
TZNAME:PDT
DTSTART:20250309T100000
END:DAYLIGHT
BEGIN:STANDARD
TZOFFSETFROM:-0700
TZOFFSETTO:-0800
TZNAME:PST
DTSTART:20251102T090000
END:STANDARD
BEGIN:DAYLIGHT
TZOFFSETFROM:-0800
TZOFFSETTO:-0700
TZNAME:PDT
DTSTART:20260308T100000
END:DAYLIGHT
BEGIN:STANDARD
TZOFFSETFROM:-0700
TZOFFSETTO:-0800
TZNAME:PST
DTSTART:20261101T090000
END:STANDARD
BEGIN:DAYLIGHT
TZOFFSETFROM:-0800
TZOFFSETTO:-0700
TZNAME:PDT
DTSTART:20270314T100000
END:DAYLIGHT
BEGIN:STANDARD
TZOFFSETFROM:-0700
TZOFFSETTO:-0800
TZNAME:PST
DTSTART:20271107T090000
END:STANDARD
END:VTIMEZONE
BEGIN:VEVENT
DTSTART;VALUE=DATE:20260503
DTEND;VALUE=DATE:20260504
DTSTAMP:20260420T032110
CREATED:20260417T101738Z
LAST-MODIFIED:20260417T101738Z
UID:188029-1777766400-1777852799@seattlech.com
SUMMARY:西雅图爵士晚祷活动 Jazz
DESCRIPTION:🎫 自由的 \n西雅图第一浸信会将举办爵士晚祷活动，由Jake Bergevin五重奏的五位成员演奏小号、钢琴、吉他、贝斯与鼓。地址为西雅图哈佛大道1111号，位于First Hill区域（距离约0.9英里东）。停车信息请参考相关指引。 \n📍 Google Map \n🔗 查看主页
URL:https://seattlech.com/event/%e8%a5%bf%e9%9b%85%e5%9b%be%e7%88%b5%e5%a3%ab%e6%99%9a%e7%a5%b7%e6%b4%bb%e5%8a%a8-jazz/
LOCATION:Seattle First Baptist\, 1111 Harvard Ave\, Seattle\, WA 98122\, United States
END:VEVENT
END:VCALENDAR