BEGIN:VCALENDAR
VERSION:2.0
PRODID:-//SeattleCH - ECPv6.15.18//NONSGML v1.0//EN
CALSCALE:GREGORIAN
METHOD:PUBLISH
X-WR-CALNAME:SeattleCH
X-ORIGINAL-URL:https://seattlech.com
X-WR-CALDESC:SeattleCH的活动
REFRESH-INTERVAL;VALUE=DURATION:PT1H
X-Robots-Tag:noindex
X-PUBLISHED-TTL:PT1H
BEGIN:VTIMEZONE
TZID:America/Los_Angeles
BEGIN:DAYLIGHT
TZOFFSETFROM:-0800
TZOFFSETTO:-0700
TZNAME:PDT
DTSTART:20250309T100000
END:DAYLIGHT
BEGIN:STANDARD
TZOFFSETFROM:-0700
TZOFFSETTO:-0800
TZNAME:PST
DTSTART:20251102T090000
END:STANDARD
BEGIN:DAYLIGHT
TZOFFSETFROM:-0800
TZOFFSETTO:-0700
TZNAME:PDT
DTSTART:20260308T100000
END:DAYLIGHT
BEGIN:STANDARD
TZOFFSETFROM:-0700
TZOFFSETTO:-0800
TZNAME:PST
DTSTART:20261101T090000
END:STANDARD
BEGIN:DAYLIGHT
TZOFFSETFROM:-0800
TZOFFSETTO:-0700
TZNAME:PDT
DTSTART:20270314T100000
END:DAYLIGHT
BEGIN:STANDARD
TZOFFSETFROM:-0700
TZOFFSETTO:-0800
TZNAME:PST
DTSTART:20271107T090000
END:STANDARD
END:VTIMEZONE
BEGIN:VEVENT
DTSTART;VALUE=DATE:20260428
DTEND;VALUE=DATE:20260429
DTSTAMP:20260420T115404
CREATED:20260218T010452Z
LAST-MODIFIED:20260218T010452Z
UID:181048-1777334400-1777420799@seattlech.com
SUMMARY:秘鲁全球融合音乐盛宴 Peruvian fusion band
DESCRIPTION:Global Rhythms将带来秘鲁非洲融合音乐乐队Novalima，由四位秘鲁音乐家组成。演出地点为西雅图镇厅（地址：第八大道1119号）。22岁以下观众可免费入场。 \n🎬 Video \n📍 Google Map \n🔗 查看主页
URL:https://seattlech.com/event/%e7%a7%98%e9%b2%81%e5%85%a8%e7%90%83%e8%9e%8d%e5%90%88%e9%9f%b3%e4%b9%90%e7%9b%9b%e5%ae%b4-peruvian-fusion-band/
LOCATION:Town Hall Seattle\, 1119 8th Ave\, Seattle\, WA 98101\, United States
END:VEVENT
END:VCALENDAR