BEGIN:VCALENDAR
VERSION:2.0
PRODID:-//SeattleCH - ECPv6.15.18//NONSGML v1.0//EN
CALSCALE:GREGORIAN
METHOD:PUBLISH
X-WR-CALNAME:SeattleCH
X-ORIGINAL-URL:https://seattlech.com
X-WR-CALDESC:SeattleCH的活动
REFRESH-INTERVAL;VALUE=DURATION:PT1H
X-Robots-Tag:noindex
X-PUBLISHED-TTL:PT1H
BEGIN:VTIMEZONE
TZID:America/Los_Angeles
BEGIN:DAYLIGHT
TZOFFSETFROM:-0800
TZOFFSETTO:-0700
TZNAME:PDT
DTSTART:20250309T100000
END:DAYLIGHT
BEGIN:STANDARD
TZOFFSETFROM:-0700
TZOFFSETTO:-0800
TZNAME:PST
DTSTART:20251102T090000
END:STANDARD
BEGIN:DAYLIGHT
TZOFFSETFROM:-0800
TZOFFSETTO:-0700
TZNAME:PDT
DTSTART:20260308T100000
END:DAYLIGHT
BEGIN:STANDARD
TZOFFSETFROM:-0700
TZOFFSETTO:-0800
TZNAME:PST
DTSTART:20261101T090000
END:STANDARD
BEGIN:DAYLIGHT
TZOFFSETFROM:-0800
TZOFFSETTO:-0700
TZNAME:PDT
DTSTART:20270314T100000
END:DAYLIGHT
BEGIN:STANDARD
TZOFFSETFROM:-0700
TZOFFSETTO:-0800
TZNAME:PST
DTSTART:20271107T090000
END:STANDARD
END:VTIMEZONE
BEGIN:VEVENT
DTSTART;VALUE=DATE:20260425
DTEND;VALUE=DATE:20260427
DTSTAMP:20260420T113728
CREATED:20260410T104509Z
LAST-MODIFIED:20260410T104509Z
UID:187205-1777075200-1777247999@seattlech.com
SUMMARY:学生杂技演员表演《马戏出错：道具失踪案》 Student acrobats
DESCRIPTION:在西雅图南市中心2702 6th Ave. S的Emerald City Trapeze Arts，可观赏来自杂技与新马戏艺术学校的青少年们，以创意马戏故事呈现《马戏出错：道具失踪案》。他们骑着单轮车、抛接物品并飞身跃起，带来精彩绝伦的表演。地点位于SoDo区域，距离约2.8英里。 \n🎬 Video \n📍 Google Map \n🔗 查看主页
URL:https://seattlech.com/event/%e5%ad%a6%e7%94%9f%e6%9d%82%e6%8a%80%e6%bc%94%e5%91%98%e8%a1%a8%e6%bc%94%e3%80%8a%e9%a9%ac%e6%88%8f%e5%87%ba%e9%94%99%ef%bc%9a%e9%81%93%e5%85%b7%e5%a4%b1%e8%b8%aa%e6%a1%88%e3%80%8b-student-acrobats/
LOCATION:Emerald City Trapeze Arts\, 2702 6th Ave S\, Seattle\, WA 98134\, United States
END:VEVENT
END:VCALENDAR