BEGIN:VCALENDAR
VERSION:2.0
PRODID:-//SeattleCH - ECPv6.15.18//NONSGML v1.0//EN
CALSCALE:GREGORIAN
METHOD:PUBLISH
X-WR-CALNAME:SeattleCH
X-ORIGINAL-URL:https://seattlech.com
X-WR-CALDESC:SeattleCH的活动
REFRESH-INTERVAL;VALUE=DURATION:PT1H
X-Robots-Tag:noindex
X-PUBLISHED-TTL:PT1H
BEGIN:VTIMEZONE
TZID:America/Los_Angeles
BEGIN:DAYLIGHT
TZOFFSETFROM:-0800
TZOFFSETTO:-0700
TZNAME:PDT
DTSTART:20250309T100000
END:DAYLIGHT
BEGIN:STANDARD
TZOFFSETFROM:-0700
TZOFFSETTO:-0800
TZNAME:PST
DTSTART:20251102T090000
END:STANDARD
BEGIN:DAYLIGHT
TZOFFSETFROM:-0800
TZOFFSETTO:-0700
TZNAME:PDT
DTSTART:20260308T100000
END:DAYLIGHT
BEGIN:STANDARD
TZOFFSETFROM:-0700
TZOFFSETTO:-0800
TZNAME:PST
DTSTART:20261101T090000
END:STANDARD
BEGIN:DAYLIGHT
TZOFFSETFROM:-0800
TZOFFSETTO:-0700
TZNAME:PDT
DTSTART:20270314T100000
END:DAYLIGHT
BEGIN:STANDARD
TZOFFSETFROM:-0700
TZOFFSETTO:-0800
TZNAME:PST
DTSTART:20271107T090000
END:STANDARD
END:VTIMEZONE
BEGIN:VEVENT
DTSTART;VALUE=DATE:20260502
DTEND;VALUE=DATE:20260503
DTSTAMP:20260420T073557
CREATED:20260220T081741Z
LAST-MODIFIED:20260220T081741Z
UID:181727-1777680000-1777766399@seattlech.com
SUMMARY:墨西哥文化庆典 Celebrate Mexico
DESCRIPTION:🎫 自由的 \nEl Centro de la Raza主办的Cinco de Mayo庆典将在西雅图罗伯托·马斯特斯广场举行。现场设有墨西哥美食摊位、持续至下午5点的现场音乐、儿童趣味互动活动及手工艺品市集。活动地点位于Beacon Hill（距3.3英里东南方向） \n📷 Photos \n📍 Google Map \n🔗 查看主页
URL:https://seattlech.com/event/%e5%a2%a8%e8%a5%bf%e5%93%a5%e6%96%87%e5%8c%96%e5%ba%86%e5%85%b8-celebrate-mexico/
LOCATION:Plaza Roberto Maestas\, 1660 S Roberto Maestas Festival St\, Seattle\, WA 98144\, United States
END:VEVENT
END:VCALENDAR