BEGIN:VCALENDAR
VERSION:2.0
PRODID:-//SeattleCH - ECPv6.15.18//NONSGML v1.0//EN
CALSCALE:GREGORIAN
METHOD:PUBLISH
X-WR-CALNAME:SeattleCH
X-ORIGINAL-URL:https://seattlech.com
X-WR-CALDESC:SeattleCH的活动
REFRESH-INTERVAL;VALUE=DURATION:PT1H
X-Robots-Tag:noindex
X-PUBLISHED-TTL:PT1H
BEGIN:VTIMEZONE
TZID:America/Los_Angeles
BEGIN:DAYLIGHT
TZOFFSETFROM:-0800
TZOFFSETTO:-0700
TZNAME:PDT
DTSTART:20250309T100000
END:DAYLIGHT
BEGIN:STANDARD
TZOFFSETFROM:-0700
TZOFFSETTO:-0800
TZNAME:PST
DTSTART:20251102T090000
END:STANDARD
BEGIN:DAYLIGHT
TZOFFSETFROM:-0800
TZOFFSETTO:-0700
TZNAME:PDT
DTSTART:20260308T100000
END:DAYLIGHT
BEGIN:STANDARD
TZOFFSETFROM:-0700
TZOFFSETTO:-0800
TZNAME:PST
DTSTART:20261101T090000
END:STANDARD
BEGIN:DAYLIGHT
TZOFFSETFROM:-0800
TZOFFSETTO:-0700
TZNAME:PDT
DTSTART:20270314T100000
END:DAYLIGHT
BEGIN:STANDARD
TZOFFSETFROM:-0700
TZOFFSETTO:-0800
TZNAME:PST
DTSTART:20271107T090000
END:STANDARD
END:VTIMEZONE
BEGIN:VEVENT
DTSTART;VALUE=DATE:20260506
DTEND;VALUE=DATE:20260507
DTSTAMP:20260420T060627
CREATED:20260220T164431Z
LAST-MODIFIED:20260220T164431Z
UID:181816-1778025600-1778111999@seattlech.com
SUMMARY:伊萨夸东岸品酒会 Eastside wine tasting
DESCRIPTION:葡萄之旅将涵盖本地餐厅精致小食、静默拍卖及20家本地酒庄、蒸馏厂与精酿啤酒厂的酒款品鉴。活动地点设于伊萨夸市10大道西北街1730号的皮克林谷仓内。请携带有效身份证件以证明年龄符合21岁或以上。 \n📷 Photos \n📍 Google Map \n🔗 查看主页
URL:https://seattlech.com/event/%e4%bc%8a%e8%90%a8%e5%a4%b8%e4%b8%9c%e5%b2%b8%e5%93%81%e9%85%92%e4%bc%9a-eastside-wine-tasting/
LOCATION:Pickering Barn\, 1730 10th Ave NW\, Issaquah\, WA 98027\, United States
END:VEVENT
END:VCALENDAR